BEGIN:VCALENDAR
VERSION:2.0
PRODID:-//IMSSC Official Website - ECPv6.15.20//NONSGML v1.0//EN
CALSCALE:GREGORIAN
METHOD:PUBLISH
X-ORIGINAL-URL:https://imssc.org/mstr
X-WR-CALDESC:Events for IMSSC Official Website
REFRESH-INTERVAL;VALUE=DURATION:PT1H
X-Robots-Tag:noindex
X-PUBLISHED-TTL:PT1H
BEGIN:VTIMEZONE
TZID:UTC
BEGIN:STANDARD
TZOFFSETFROM:+0000
TZOFFSETTO:+0000
TZNAME:UTC
DTSTART:20240101T000000
END:STANDARD
END:VTIMEZONE
BEGIN:VEVENT
DTSTART;TZID=UTC:20250104T080000
DTEND;TZID=UTC:20250104T170000
DTSTAMP:20260423T212309
CREATED:20240911T085814Z
LAST-MODIFIED:20241005T093548Z
UID:4078-1735977600-1736010000@imssc.org
SUMMARY:Dutch Masters Cup 24/25 #3
DESCRIPTION:Single Distance \n\n\n\n\n\n\n\nIMSSC 24-25 Dutch Masters Cup 2024-2025 v1_0Download
URL:https://imssc.org/mstr/race/dutch-masters-cup-24-25-3/
LOCATION:Elfstedenhal\, Fryslanplein 1\, Leeuwarden\, 8914BZ\, Netherlands
CATEGORIES:Long Track
ATTACH;FMTTYPE=image/jpeg:https://imssc.org/mstr/wp-content/uploads/news/Stedenhal_Leeuwarden.jpg
ORGANIZER;CN="Tjeerd Smies":MAILTO:info@schaatscircuit.nl
END:VEVENT
BEGIN:VEVENT
DTSTART;TZID=UTC:20250110T080000
DTEND;TZID=UTC:20250112T170000
DTSTAMP:20260423T212309
CREATED:20240911T090929Z
LAST-MODIFIED:20240909T091232Z
UID:4090-1736496000-1736701200@imssc.org
SUMMARY:US Open Masters Champs
DESCRIPTION:Single Distance
URL:https://imssc.org/mstr/race/us-open-masters-champs/
LOCATION:Salt Lake City\, Utah\, United States
CATEGORIES:Long Track
ATTACH;FMTTYPE=image/jpeg:https://imssc.org/mstr/wp-content/uploads/venues/logoutah_1348222039.jpg
END:VEVENT
BEGIN:VEVENT
DTSTART;TZID=UTC:20250111T080000
DTEND;TZID=UTC:20250112T170000
DTSTAMP:20260423T212309
CREATED:20240911T090353Z
LAST-MODIFIED:20240930T104113Z
UID:4084-1736582400-1736701200@imssc.org
SUMMARY:All Japan National Masters Champs
DESCRIPTION:Single Distance – Only Japanese skaters allowed
URL:https://imssc.org/mstr/race/all-japan-national-masters/
LOCATION:Koriyama City\, Fukushima\, Japan
CATEGORIES:Long Track
ORGANIZER;CN="Kenji Takai":MAILTO:info@i-skating.com
END:VEVENT
BEGIN:VEVENT
DTSTART;TZID=UTC:20250118T080000
DTEND;TZID=UTC:20250119T170000
DTSTAMP:20260423T212309
CREATED:20240911T091247Z
LAST-MODIFIED:20240909T091558Z
UID:4095-1737187200-1737306000@imssc.org
SUMMARY:Norwegian Masters' Championships
DESCRIPTION:SD and Samalog – Info + registration coming soon
URL:https://imssc.org/mstr/race/norwegian-masters-championships/
LOCATION:Valle Hovin Stadion\, Oslo\, Norway
CATEGORIES:Long Track
END:VEVENT
END:VCALENDAR