BEGIN:VCALENDAR
VERSION:2.0
PRODID:-//IMSSC Official Website - ECPv6.15.20//NONSGML v1.0//EN
CALSCALE:GREGORIAN
METHOD:PUBLISH
X-ORIGINAL-URL:https://imssc.org/mstr
X-WR-CALDESC:Events for IMSSC Official Website
REFRESH-INTERVAL;VALUE=DURATION:PT1H
X-Robots-Tag:noindex
X-PUBLISHED-TTL:PT1H
BEGIN:VTIMEZONE
TZID:UTC
BEGIN:STANDARD
TZOFFSETFROM:+0000
TZOFFSETTO:+0000
TZNAME:UTC
DTSTART:20240101T000000
END:STANDARD
END:VTIMEZONE
BEGIN:VEVENT
DTSTART;TZID=UTC:20250307T080000
DTEND;TZID=UTC:20250309T170000
DTSTAMP:20260423T183541
CREATED:20240501T101357Z
LAST-MODIFIED:20241212T190953Z
UID:3458-1741334400-1741539600@imssc.org
SUMMARY:IMSSC Masters Allround Games
DESCRIPTION:Download Announcement below \n\n\n\n\n\nMAG-2025-AnnouncementDownload
URL:https://imssc.org/mstr/race/mag-2025/
LOCATION:Stavanger\, Stavanger\, Norway
CATEGORIES:Long Track
ATTACH;FMTTYPE=image/jpeg:https://imssc.org/mstr/wp-content/uploads/news/NOR_fed.jpg
ORGANIZER;CN="Lars M. Haldorsen":MAILTO:stevne@stavangersandnes.no
END:VEVENT
BEGIN:VEVENT
DTSTART;TZID=UTC:20250307T080000
DTEND;TZID=UTC:20250309T170000
DTSTAMP:20260423T183541
CREATED:20240911T102335Z
LAST-MODIFIED:20240909T102841Z
UID:4121-1741334400-1741539600@imssc.org
SUMMARY:AmCup Final
DESCRIPTION:Single Distance
URL:https://imssc.org/mstr/race/amcup-final/
LOCATION:Salt Lake City\, Utah\, United States
CATEGORIES:Long Track
ATTACH;FMTTYPE=image/png:https://imssc.org/mstr/wp-content/uploads/2024/09/USssk_logo.png
END:VEVENT
BEGIN:VEVENT
DTSTART;TZID=UTC:20250319T080000
DTEND;TZID=UTC:20250320T170000
DTSTAMP:20260423T183541
CREATED:20240916T191453Z
LAST-MODIFIED:20241005T174708Z
UID:4156-1742371200-1742490000@imssc.org
SUMMARY:5th International Masters' Thialf Record Races
DESCRIPTION:Single distances \n\n\n\n\n\n\n\n\n\nIMSSC 24-25 4th Thialf Record Races 20240928 v1_0Download
URL:https://imssc.org/mstr/race/trr2025/
LOCATION:Thialf\, Heerenveen\, Netherlands
CATEGORIES:Long Track
ATTACH;FMTTYPE=image/jpeg:https://imssc.org/mstr/wp-content/uploads/logos/thialf logo.jpg
ORGANIZER;CN="Tjeerd Smies":MAILTO:info@schaatscircuit.nl
END:VEVENT
END:VCALENDAR