BEGIN:VCALENDAR
VERSION:2.0
PRODID:-//IMSSC Official Website - ECPv6.15.20//NONSGML v1.0//EN
CALSCALE:GREGORIAN
METHOD:PUBLISH
X-ORIGINAL-URL:https://imssc.org/mstr
X-WR-CALDESC:Events for IMSSC Official Website
REFRESH-INTERVAL;VALUE=DURATION:PT1H
X-Robots-Tag:noindex
X-PUBLISHED-TTL:PT1H
BEGIN:VTIMEZONE
TZID:UTC
BEGIN:STANDARD
TZOFFSETFROM:+0000
TZOFFSETTO:+0000
TZNAME:UTC
DTSTART:20240101T000000
END:STANDARD
END:VTIMEZONE
BEGIN:VEVENT
DTSTART;TZID=UTC:20251123T180000
DTEND;TZID=UTC:20251123T203000
DTSTAMP:20260421T094107
CREATED:20250930T100927Z
LAST-MODIFIED:20250930T142324Z
UID:4544-1763920800-1763929800@imssc.org
SUMMARY:DMC-1 IJsbaan Twente
DESCRIPTION:Dutch Masters Cup 2025-2026.First competition of 3 competitions.  First competition is on the icerink IJsbaan Twente in Enschede\, the Netherlands\, Saturday 23 November 2025\, start 18:00 h CET. See Announcement for all details. The DMC competitions are part of the official IMSSC competition calendar 2025-2026. \n\n\n\nThis competition will be held according to the Regulations of the International Masters’ Speed SkatingCommittee (IMSSC) and the Regulations of the International Skating Union (ISU) on covered400m standard speed skating tracks on artificial ice. \n\n\n\n\n\n\n\n\n\n\n\nIMSSC 25-26 Dutch Masters Cup 2025-2026 v1_0Download
URL:https://imssc.org/mstr/race/dmc-1-ijsbaan-twente/
LOCATION:IJsbaan Twente\, Colosseum 90\, Enschede\, 7521 PT\, Netherlands
CATEGORIES:Long Track
ATTACH;FMTTYPE=image/jpeg:https://imssc.org/mstr/wp-content/uploads/2024/11/IJsbaan_Twente_2.jpg
ORGANIZER;CN="Tjeerd Smies%2C Schaatscircuit.nl":MAILTO:info@schaatscircuit.nl
END:VEVENT
END:VCALENDAR