BEGIN:VCALENDAR
VERSION:2.0
PRODID:-//IMSSC Official Website - ECPv6.15.20//NONSGML v1.0//EN
CALSCALE:GREGORIAN
METHOD:PUBLISH
X-WR-CALNAME:IMSSC Official Website
X-ORIGINAL-URL:https://imssc.org/mstr
X-WR-CALDESC:Events for IMSSC Official Website
REFRESH-INTERVAL;VALUE=DURATION:PT1H
X-Robots-Tag:noindex
X-PUBLISHED-TTL:PT1H
BEGIN:VTIMEZONE
TZID:UTC
BEGIN:STANDARD
TZOFFSETFROM:+0000
TZOFFSETTO:+0000
TZNAME:UTC
DTSTART:20240101T000000
END:STANDARD
END:VTIMEZONE
BEGIN:VEVENT
DTSTART;TZID=UTC:20251206T080000
DTEND;TZID=UTC:20251207T170000
DTSTAMP:20260421T082614
CREATED:20251029T194257Z
LAST-MODIFIED:20251029T194432Z
UID:4068-1765008000-1765126800@imssc.org
SUMMARY:X-Mas Race 2025
DESCRIPTION:Single Distance  \n\n\n\n\n\nAnn-Christmas Race 2025Download
URL:https://imssc.org/mstr/race/x-mas-race/
LOCATION:Stavanger\, Stavanger\, Norway
CATEGORIES:Long Track
ATTACH;FMTTYPE=image/png:https://imssc.org/mstr/wp-content/uploads/logos/logo_sormarka.png
END:VEVENT
BEGIN:VEVENT
DTSTART;TZID=UTC:20251213T190000
DTEND;TZID=UTC:20251213T220000
DTSTAMP:20260421T082614
CREATED:20250930T102406Z
LAST-MODIFIED:20250930T142253Z
UID:4556-1765652400-1765663200@imssc.org
SUMMARY:DMC-2 Thialf Heerenveen
DESCRIPTION:Dutch Masters Cup 2025-2026.Second competition of 3 competitions. Second competition is on the icerink Thialf\, Heerenveen\, the Netherlands\, Sunday  13 December 2025\, start 19:00 h CET. See Announcement for all details. The DMC competitions are part of the official IMSSC competition calendar 2025-2026. \n\n\n\nThis competition will be held according to the Regulations of the International Masters’ Speed SkatingCommittee (IMSSC) and the Regulations of the International Skating Union (ISU) on covered400m standard speed skating tracks on artificial ice. \n\n\n\n \n\n\n\n\n\n\n\n\n\n\n\nIMSSC 25-26 Dutch Masters Cup 2025-2026 v1_0Download
URL:https://imssc.org/mstr/race/dmc-2-thialf-heerenveen/
LOCATION:Thialf Heerenveen\, Pim Mulierlaan 1\, Heerenveen\, 8443 DA\, Netherlands
CATEGORIES:Long Track
ATTACH;FMTTYPE=image/jpeg:https://imssc.org/mstr/wp-content/uploads/2024/12/Thialf_Heerenveen.jpg
ORGANIZER;CN="Tjeerd Smies":MAILTO:info@schaatscircuit.nl
END:VEVENT
BEGIN:VEVENT
DTSTART;TZID=UTC:20251220T200000
DTEND;TZID=UTC:20251220T230000
DTSTAMP:20260421T082614
CREATED:20250930T105733Z
LAST-MODIFIED:20250930T142217Z
UID:4563-1766260800-1766271600@imssc.org
SUMMARY:DMC-final Elfstedenhal\, Leeuwarden
DESCRIPTION:Dutch Masters Cup 2025-2026.Third and final competition of 3 competitions.  Third competition is on the icerink Elfstedenhal\, Leeuwarden\, the Netherlands\, Saturday 20 December 2025\, start 20:00 h CET. See Announcement for all details. The DMC competitions are part of the official IMSSC competition calendar 2025-2026. \n\n\n\nThis competition will be held according to the Regulations of the International Masters’ Speed SkatingCommittee (IMSSC) and the Regulations of the International Skating Union (ISU) on covered400m standard speed skating tracks on artificial ice. \n\n\n\n \n\n\n\n\n\n\n\n\n\n\n\n\n\nIMSSC 25-26 Dutch Masters Cup 2025-2026 v1_0Download
URL:https://imssc.org/mstr/race/dmc-final-elfstedenhal-leeuwarden/
LOCATION:Elfstedenhal Leeuwarden\, Fryslanplein 1\, Leeuwarden\, 8914 BZ\, Netherlands
CATEGORIES:Long Track
ATTACH;FMTTYPE=image/jpeg:https://imssc.org/mstr/wp-content/uploads/2025/09/11Stedenhal_Leeuwarden.jpg
ORGANIZER;CN="Tjeerd Smies":MAILTO:info@schaatscircuit.nl
END:VEVENT
END:VCALENDAR